BEGIN:VCALENDAR
VERSION:2.0
PRODID:-//jEvents 2.0 for Joomla//EN
CALSCALE:GREGORIAN
METHOD:PUBLISH
BEGIN:VEVENT
UID:6572a34e46213226e1159474d93f7e85
CATEGORIES:DEFAULT
SUMMARY:Diaporama
LOCATION:Salle Chloé au musée à St-Dié
DESCRIPTION;ENCODING=QUOTED-PRINTABLE:
CONTACT:André Antoine et François Goethals
X-EXTRAINFO:Attention passe sanitaire obligatoire
DTSTAMP:20260423T162736Z
DTSTART:20220311T193000Z
SEQUENCE:0
TRANSP:OPAQUE
END:VEVENT
END:VCALENDAR