BEGIN:VCALENDAR
VERSION:2.0
PRODID:-//jEvents 2.0 for Joomla//EN
CALSCALE:GREGORIAN
METHOD:PUBLISH
BEGIN:VEVENT
UID:774c86317c003d7a3ff9d754cb58c484
CATEGORIES:DEFAULT
SUMMARY:Diaporama
LOCATION:Salle Chloé au musée à St-Dié
DESCRIPTION;ENCODING=QUOTED-PRINTABLE:
CONTACT:André Antoine et François Goethals
X-EXTRAINFO:Attention passe sanitaire obligatoire
DTSTAMP:20260423T161005Z
DTSTART:20220311T140000Z
SEQUENCE:0
TRANSP:OPAQUE
END:VEVENT
END:VCALENDAR