BEGIN:VCALENDAR
VERSION:2.0
PRODID:-//jEvents 2.0 for Joomla//EN
CALSCALE:GREGORIAN
METHOD:PUBLISH
BEGIN:VEVENT
UID:fc2afb12b7cc0b60d92c59ce0468a6a2
CATEGORIES:DEFAULT
SUMMARY:Randonnée douce
LOCATION:Rendez-vous square Lafayette
DESCRIPTION;ENCODING=QUOTED-PRINTABLE:
CONTACT:Francine Habert
X-EXTRAINFO:.
DTSTAMP:20260423T161504Z
DTSTART:20220306T123000Z
SEQUENCE:0
TRANSP:OPAQUE
END:VEVENT
END:VCALENDAR