BEGIN:VCALENDAR
VERSION:2.0
PRODID:-//jEvents 2.0 for Joomla//EN
CALSCALE:GREGORIAN
METHOD:PUBLISH
BEGIN:VEVENT
UID:cf70a6324822769b709e879f836f7371
CATEGORIES:DEFAULT
SUMMARY:Repas au Hangochet
LOCATION:Le Hangochet
DESCRIPTION;ENCODING=QUOTED-PRINTABLE:
CONTACT:François et Geneviève Goethals
X-EXTRAINFO:Possibilité d'aider à cuisiner à partir de 9h00\nCovoiturage rendez-vous au
  square Lafayette à 11h00 (attention je n'y serai pas)Participation 10 € à 
 payer sur place.
DTSTAMP:20260425T101750Z
DTSTART:20220223T103000Z
SEQUENCE:0
TRANSP:OPAQUE
END:VEVENT
END:VCALENDAR