BEGIN:VCALENDAR
VERSION:2.0
PRODID:-//jEvents 2.0 for Joomla//EN
CALSCALE:GREGORIAN
METHOD:PUBLISH
BEGIN:VEVENT
UID:b334a30b5ad0c4b9da6d8e3ed5ba02c3
CATEGORIES:DEFAULT
SUMMARY:Sortie raquettes
LOCATION:Rendez-vous square Lafayette
DESCRIPTION;ENCODING=QUOTED-PRINTABLE:
CONTACT:Jean-Charles Martin
X-EXTRAINFO:2ème rendez-vous à 13h00 au parking du super U d'Anould\n
DTSTAMP:20260425T101758Z
DTSTART:20220130T114500Z
SEQUENCE:0
TRANSP:OPAQUE
END:VEVENT
END:VCALENDAR