BEGIN:VCALENDAR
VERSION:2.0
PRODID:-//jEvents 2.0 for Joomla//EN
CALSCALE:GREGORIAN
METHOD:PUBLISH
BEGIN:VEVENT
UID:c1abfa735d6a99712290caa049f4d5b0
CATEGORIES:DEFAULT
SUMMARY:Randonnée ou sortie raquettes
LOCATION:Rendez-vous square Lafayette
DESCRIPTION;ENCODING=QUOTED-PRINTABLE:
CONTACT:Bernard Braganti
X-EXTRAINFO:.
DTSTAMP:20260425T155927Z
DTSTART:20220119T123000Z
SEQUENCE:0
TRANSP:OPAQUE
END:VEVENT
END:VCALENDAR