BEGIN:VCALENDAR
VERSION:2.0
PRODID:-//jEvents 2.0 for Joomla//EN
CALSCALE:GREGORIAN
METHOD:PUBLISH
BEGIN:VEVENT
UID:b8a50a3aea147b8b54a3e4fc78e8d302
CATEGORIES:DEFAULT
SUMMARY:Après-midi loisirs en salle Gérard Philipe
LOCATION:Salle Gérard Philipe
DESCRIPTION;ENCODING=QUOTED-PRINTABLE:
CONTACT:Francine Habert et Micheline Combeau
X-EXTRAINFO:.
DTSTAMP:20260423T171356Z
DTSTART:20220513T120000Z
SEQUENCE:0
TRANSP:OPAQUE
END:VEVENT
END:VCALENDAR