BEGIN:VCALENDAR
VERSION:2.0
PRODID:-//jEvents 2.0 for Joomla//EN
CALSCALE:GREGORIAN
METHOD:PUBLISH
BEGIN:VEVENT
UID:45ab45f7f45f802b7ab2114f82584223
CATEGORIES:DEFAULT
SUMMARY:Après-midi loisirs en salle Gérard Philipe
LOCATION:Salle Gérard Philipe
DESCRIPTION;ENCODING=QUOTED-PRINTABLE:
CONTACT:Francine Habert et Micheline Combeau
X-EXTRAINFO:.
DTSTAMP:20260423T144830Z
DTSTART:20220408T120000Z
SEQUENCE:0
TRANSP:OPAQUE
END:VEVENT
END:VCALENDAR