BEGIN:VCALENDAR
VERSION:2.0
PRODID:-//jEvents 2.0 for Joomla//EN
CALSCALE:GREGORIAN
METHOD:PUBLISH
BEGIN:VEVENT
UID:851a8b955a55cbf4d14226e62d560680
CATEGORIES:DEFAULT
SUMMARY:Après-midi loisirs en salle Gérard Philipe
LOCATION:Salle Gérard Philipe
DESCRIPTION;ENCODING=QUOTED-PRINTABLE:
CONTACT:Francine Habert et Micheline Combeau
X-EXTRAINFO:.
DTSTAMP:20260423T160752Z
DTSTART:20220318T130000Z
SEQUENCE:0
TRANSP:OPAQUE
END:VEVENT
END:VCALENDAR