BEGIN:VCALENDAR
VERSION:2.0
PRODID:-//jEvents 2.0 for Joomla//EN
CALSCALE:GREGORIAN
METHOD:PUBLISH
BEGIN:VEVENT
UID:79a5187ab6bd416573c86fc96a52e017
CATEGORIES:DEFAULT
SUMMARY:Marche Nordique
LOCATION:Rendez-vous parking Quai La Fayette
DESCRIPTION;ENCODING=QUOTED-PRINTABLE:
X-EXTRAINFO:.
DTSTAMP:20260423T171316Z
DTSTART:20250911T114500Z
SEQUENCE:0
RRULE:FREQ=WEEKLY;UNTIL=20251219T000000Z;INTERVAL=1;BYDAY=TH
TRANSP:OPAQUE
END:VEVENT
END:VCALENDAR