BEGIN:VCALENDAR
VERSION:2.0
PRODID:-//jEvents 2.0 for Joomla//EN
CALSCALE:GREGORIAN
METHOD:PUBLISH
BEGIN:VEVENT
UID:a00a8e2af18818e99e022c36594ba10b
CATEGORIES:DEFAULT
SUMMARY:Assemblée Générale
LOCATION:Salle Carbonnar
DESCRIPTION;ENCODING=QUOTED-PRINTABLE:
X-EXTRAINFO:Suivi d'un repas (Inscriptions auprès de Josiane ou Gérard L'HOTE pour le 2
 3/01/2026 dernier délai avec chèque de participation de 20 euros)
DTSTAMP:20260423T142707Z
DTSTART:20260201T080000Z
SEQUENCE:0
TRANSP:OPAQUE
END:VEVENT
END:VCALENDAR