BEGIN:VCALENDAR
VERSION:2.0
PRODID:-//jEvents 2.0 for Joomla//EN
CALSCALE:GREGORIAN
METHOD:PUBLISH
BEGIN:VEVENT
UID:3edcb5a5a7d21794230ffb428f9df0df
CATEGORIES:DEFAULT
SUMMARY:Randonnée journée organisée par : Valérie Cormier et Moniqe Oberlé
LOCATION:Rendez-vous Square La Fayette
DESCRIPTION;ENCODING=QUOTED-PRINTABLE:
X-EXTRAINFO:.
DTSTAMP:20260425T130345Z
DTSTART:20251109T073000Z
SEQUENCE:0
TRANSP:OPAQUE
END:VEVENT
END:VCALENDAR