BEGIN:VCALENDAR
VERSION:2.0
PRODID:-//jEvents 2.0 for Joomla//EN
CALSCALE:GREGORIAN
METHOD:PUBLISH
BEGIN:VEVENT
UID:c49639576d9dd9b7bf578c0b88cfc1c4
CATEGORIES:DEFAULT
SUMMARY:Après-midi loisirs en salle Gérard Philipe (Francine Habert et Micheline Combeau)
LOCATION:salle Gérard Philipe
DESCRIPTION;ENCODING=QUOTED-PRINTABLE:
X-EXTRAINFO:.
DTSTAMP:20260425T113604Z
DTSTART:20251024T120000Z
SEQUENCE:0
TRANSP:OPAQUE
END:VEVENT
END:VCALENDAR