BEGIN:VCALENDAR
VERSION:2.0
PRODID:-//jEvents 2.0 for Joomla//EN
CALSCALE:GREGORIAN
METHOD:PUBLISH
BEGIN:VEVENT
UID:89c16edc85a1fe1e7d2b0176cb8e0651
CATEGORIES:DEFAULT
SUMMARY:Randonnée avec repas en auberge organisée par : Valérie Cormier
DESCRIPTION;ENCODING=QUOTED-PRINTABLE:
X-EXTRAINFO:.
DTSTAMP:20260425T113814Z
DTSTART:20251015T063000Z
SEQUENCE:0
TRANSP:OPAQUE
END:VEVENT
END:VCALENDAR