BEGIN:VCALENDAR
VERSION:2.0
PRODID:-//jEvents 2.0 for Joomla//EN
CALSCALE:GREGORIAN
METHOD:PUBLISH
BEGIN:VEVENT
UID:e3466d3a0ab6b0be4786aaf5ffa1cefc
CATEGORIES:DEFAULT
SUMMARY:Sortie champignons et Photo organisée par : Gérard L'Hôte et Francine Habert
DESCRIPTION;ENCODING=QUOTED-PRINTABLE:
X-EXTRAINFO:Suivi d'un pique-nique au Hangochet (repas tiré du sac)
DTSTAMP:20260425T113941Z
DTSTART:20251009T070000Z
SEQUENCE:0
TRANSP:OPAQUE
END:VEVENT
END:VCALENDAR