BEGIN:VCALENDAR
VERSION:2.0
PRODID:-//jEvents 2.0 for Joomla//EN
CALSCALE:GREGORIAN
METHOD:PUBLISH
BEGIN:VEVENT
UID:c15b3b87ccd546e2a547ac7fdb12ff5a
CATEGORIES:DEFAULT
SUMMARY:Séjour dans le Var
DESCRIPTION;ENCODING=QUOTED-PRINTABLE:
X-EXTRAINFO:.
DTSTAMP:20260425T133833Z
DTSTART;VALUE=DATE:20250927
DTEND;VALUE=DATE:20251005
SEQUENCE:0
TRANSP:OPAQUE
END:VEVENT
END:VCALENDAR