BEGIN:VCALENDAR
VERSION:2.0
PRODID:-//jEvents 2.0 for Joomla//EN
CALSCALE:GREGORIAN
METHOD:PUBLISH
BEGIN:VEVENT
UID:def9ce45f79b0cfa34e362d62fa5d684
CATEGORIES:DEFAULT
SUMMARY:Réunion Groupe photo en salle
LOCATION:Salle Gérard Philipe
DESCRIPTION;ENCODING=QUOTED-PRINTABLE:
X-EXTRAINFO:.
DTSTAMP:20260425T155925Z
DTSTART:20250925T163000Z
SEQUENCE:0
TRANSP:OPAQUE
END:VEVENT
END:VCALENDAR