BEGIN:VCALENDAR
VERSION:2.0
PRODID:-//jEvents 2.0 for Joomla//EN
CALSCALE:GREGORIAN
METHOD:PUBLISH
BEGIN:VEVENT
UID:384b2774cedfb2d92dccfbfa437a002f
CATEGORIES:DEFAULT
SUMMARY:Journée du patrimoîne
DESCRIPTION;ENCODING=QUOTED-PRINTABLE:
X-EXTRAINFO:.
DTSTAMP:20260425T135256Z
DTSTART;VALUE=DATE:20250921
DTEND;VALUE=DATE:20250922
SEQUENCE:0
TRANSP:OPAQUE
END:VEVENT
END:VCALENDAR