BEGIN:VCALENDAR
VERSION:2.0
PRODID:-//jEvents 2.0 for Joomla//EN
CALSCALE:GREGORIAN
METHOD:PUBLISH
BEGIN:VEVENT
UID:fe522b20ad276f4f038f64c3ae8daaf2
CATEGORIES:DEFAULT
SUMMARY:Formation ARP1
LOCATION:Chalet du Hangochet
DESCRIPTION;ENCODING=QUOTED-PRINTABLE:
X-EXTRAINFO:.
DTSTAMP:20260425T135312Z
DTSTART;VALUE=DATE:20250912
DTEND;VALUE=DATE:20250915
SEQUENCE:0
TRANSP:OPAQUE
END:VEVENT
END:VCALENDAR