BEGIN:VCALENDAR
VERSION:2.0
PRODID:-//jEvents 2.0 for Joomla//EN
CALSCALE:GREGORIAN
METHOD:PUBLISH
BEGIN:VEVENT
UID:e912595a6ae21f61e808009fa23bc976
CATEGORIES:DEFAULT
SUMMARY:Exposition photo à la Tour de la Liberté
LOCATION:Tour de la liberté (St-Dié)
DESCRIPTION;ENCODING=QUOTED-PRINTABLE:
X-EXTRAINFO:.
DTSTAMP:20260423T181423Z
DTSTART;VALUE=DATE:20250816
DTEND;VALUE=DATE:20250831
SEQUENCE:0
TRANSP:OPAQUE
END:VEVENT
END:VCALENDAR