BEGIN:VCALENDAR
VERSION:2.0
PRODID:-//jEvents 2.0 for Joomla//EN
CALSCALE:GREGORIAN
METHOD:PUBLISH
BEGIN:VEVENT
UID:38dab8ea3eb6312d3fa7a0807a409327
CATEGORIES:DEFAULT
SUMMARY:Randonnée organisée par Sandrine Grandpré
LOCATION:Rendez-vous Square La Fayette
DESCRIPTION;ENCODING=QUOTED-PRINTABLE:
X-EXTRAINFO:.
DTSTAMP:20260423T164722Z
DTSTART;VALUE=DATE:20250723
DTEND;VALUE=DATE:20250724
SEQUENCE:0
TRANSP:OPAQUE
END:VEVENT
END:VCALENDAR