BEGIN:VCALENDAR
VERSION:2.0
PRODID:-//jEvents 2.0 for Joomla//EN
CALSCALE:GREGORIAN
METHOD:PUBLISH
BEGIN:VEVENT
UID:81672091d34d9110f6d0ab4fc3e04d38
CATEGORIES:DEFAULT
SUMMARY:Randonnée organisée par Valérie Cormier
LOCATION:Rendez-vous Square La Fayette
DESCRIPTION;ENCODING=QUOTED-PRINTABLE:
X-EXTRAINFO:.
DTSTAMP:20260423T164716Z
DTSTART;VALUE=DATE:20250716
DTEND;VALUE=DATE:20250717
SEQUENCE:0
TRANSP:OPAQUE
END:VEVENT
END:VCALENDAR