BEGIN:VCALENDAR
VERSION:2.0
PRODID:-//jEvents 2.0 for Joomla//EN
CALSCALE:GREGORIAN
METHOD:PUBLISH
BEGIN:VEVENT
UID:8245e280b1d94fa5c948e1221c2f201c
CATEGORIES:DEFAULT
SUMMARY:Sortie vélo organisée par Monique Oberlé
LOCATION:Rendez-vous Square La Fayette
DESCRIPTION;ENCODING=QUOTED-PRINTABLE:
X-EXTRAINFO:.
DTSTAMP:20260423T150009Z
DTSTART;VALUE=DATE:20250625
DTEND;VALUE=DATE:20250626
SEQUENCE:0
TRANSP:OPAQUE
END:VEVENT
END:VCALENDAR