BEGIN:VCALENDAR
VERSION:2.0
PRODID:-//jEvents 2.0 for Joomla//EN
CALSCALE:GREGORIAN
METHOD:PUBLISH
BEGIN:VEVENT
UID:22c0c1bb04104a2aee7a3c7afb6d6ef7
CATEGORIES:DEFAULT
SUMMARY:Après-midi loisirs en salle Gérard Philipe (Francine Habert et Micheline Combeau)
LOCATION:salle Gérard Philipe
DESCRIPTION;ENCODING=QUOTED-PRINTABLE:
X-EXTRAINFO:.
DTSTAMP:20260423T125655Z
DTSTART:20250613T120000Z
SEQUENCE:0
TRANSP:OPAQUE
END:VEVENT
END:VCALENDAR