BEGIN:VCALENDAR
VERSION:2.0
PRODID:-//jEvents 2.0 for Joomla//EN
CALSCALE:GREGORIAN
METHOD:PUBLISH
BEGIN:VEVENT
UID:1b8b54f54c6fcec27dfc4942a2d54b3b
CATEGORIES:DEFAULT
SUMMARY:Randonnée douce organisée par Bernard Braganti
LOCATION:Rendez-vous Square La Fayette
DESCRIPTION;ENCODING=QUOTED-PRINTABLE:
X-EXTRAINFO:.
DTSTAMP:20260423T130028Z
DTSTART:20250611T113000Z
SEQUENCE:0
TRANSP:OPAQUE
END:VEVENT
END:VCALENDAR