BEGIN:VCALENDAR
VERSION:2.0
PRODID:-//jEvents 2.0 for Joomla//EN
CALSCALE:GREGORIAN
METHOD:PUBLISH
BEGIN:VEVENT
UID:f580731f243ccd24e1238ad9b8f02e29
CATEGORIES:DEFAULT
SUMMARY:Séjour Vosges du nord et Allemagne
DESCRIPTION;ENCODING=QUOTED-PRINTABLE:
X-EXTRAINFO:.
DTSTAMP:20260423T162704Z
DTSTART;VALUE=DATE:20250605
DTEND;VALUE=DATE:20250609
SEQUENCE:0
TRANSP:OPAQUE
END:VEVENT
END:VCALENDAR