BEGIN:VCALENDAR
VERSION:2.0
PRODID:-//jEvents 2.0 for Joomla//EN
CALSCALE:GREGORIAN
METHOD:PUBLISH
BEGIN:VEVENT
UID:4b9e2beef7ae0a1544f49212737b7fa2
CATEGORIES:DEFAULT
SUMMARY:Journée pétanque organisateur : Jean-Charles Martin
LOCATION:Chez Jean-Charles Martin
DESCRIPTION;ENCODING=QUOTED-PRINTABLE:
X-EXTRAINFO:Repas tiré du sac avec barbecue
DTSTAMP:20260423T125654Z
DTSTART:20250603T073000Z
SEQUENCE:0
TRANSP:OPAQUE
END:VEVENT
END:VCALENDAR