BEGIN:VCALENDAR
VERSION:2.0
PRODID:-//jEvents 2.0 for Joomla//EN
CALSCALE:GREGORIAN
METHOD:PUBLISH
BEGIN:VEVENT
UID:d5fe96e0793eb972537f00fe28aa7e27
CATEGORIES:DEFAULT
SUMMARY:Randonnée tour de la Bresse avec nuit en refuge organisée par : Valérie Cormier
LOCATION:Rendez-vous Square La Fayette
DESCRIPTION;ENCODING=QUOTED-PRINTABLE:
X-EXTRAINFO:avec nuit en refuge
DTSTAMP:20260423T125936Z
DTSTART:20250527T063000Z
SEQUENCE:0
TRANSP:OPAQUE
END:VEVENT
END:VCALENDAR