BEGIN:VCALENDAR
VERSION:2.0
PRODID:-//jEvents 2.0 for Joomla//EN
CALSCALE:GREGORIAN
METHOD:PUBLISH
BEGIN:VEVENT
UID:b25c1757b4954f5b7c26e0ee402adbff
CATEGORIES:DEFAULT
SUMMARY:Après-midi loisirs en salle Gérard Philipe (Francine Habert et Micheline Combeau)
LOCATION:salle Gérard Philipe
DESCRIPTION;ENCODING=QUOTED-PRINTABLE:
X-EXTRAINFO:.
DTSTAMP:20260423T142657Z
DTSTART:20250523T120000Z
SEQUENCE:0
TRANSP:OPAQUE
END:VEVENT
END:VCALENDAR