BEGIN:VCALENDAR
VERSION:2.0
PRODID:-//jEvents 2.0 for Joomla//EN
CALSCALE:GREGORIAN
METHOD:PUBLISH
BEGIN:VEVENT
UID:51aaff202dbfbfed9bd3c6edb0481a08
CATEGORIES:DEFAULT
SUMMARY:Après-midi loisirs en salle Gérard Philipe (Francine Habert et Micheline Combeau)
LOCATION:salle Gérard Philipe
DESCRIPTION;ENCODING=QUOTED-PRINTABLE:
X-EXTRAINFO:.
DTSTAMP:20260421T101847Z
DTSTART:20250425T120000Z
SEQUENCE:0
TRANSP:OPAQUE
END:VEVENT
END:VCALENDAR