BEGIN:VCALENDAR
VERSION:2.0
PRODID:-//jEvents 2.0 for Joomla//EN
CALSCALE:GREGORIAN
METHOD:PUBLISH
BEGIN:VEVENT
UID:53179b6f1b46bd537a58ef604bb98b64
CATEGORIES:DEFAULT
SUMMARY:Randonnée organisée par : Françoise Hamann et Marie Odile Masson
LOCATION:Rendez-vous parking Quai La Fayette
DESCRIPTION;ENCODING=QUOTED-PRINTABLE:
X-EXTRAINFO:.
DTSTAMP:20260425T101756Z
DTSTART:20250330T063000Z
SEQUENCE:0
TRANSP:OPAQUE
END:VEVENT
END:VCALENDAR