BEGIN:VCALENDAR
VERSION:2.0
PRODID:-//jEvents 2.0 for Joomla//EN
CALSCALE:GREGORIAN
METHOD:PUBLISH
BEGIN:VEVENT
UID:59379236886a02c0fea9a34d72d815c4
CATEGORIES:DEFAULT
SUMMARY:Projection de diaporamas par : André Antoine
LOCATION:Salle Cholé au musée (St-Die)
DESCRIPTION;ENCODING=QUOTED-PRINTABLE:
X-EXTRAINFO:.
DTSTAMP:20260423T125618Z
DTSTART:20250328T140000Z
SEQUENCE:0
TRANSP:OPAQUE
END:VEVENT
END:VCALENDAR