BEGIN:VCALENDAR
VERSION:2.0
PRODID:-//jEvents 2.0 for Joomla//EN
CALSCALE:GREGORIAN
METHOD:PUBLISH
BEGIN:VEVENT
UID:0a894e9d2370f9f744ca8087227c32e0
CATEGORIES:DEFAULT
SUMMARY:Repas organisé par : Geneviève Goethals au Hangochet
LOCATION:Rendez-vous Square La Fayette à 11h30
DESCRIPTION;ENCODING=QUOTED-PRINTABLE:
X-EXTRAINFO:.
DTSTAMP:20260423T130005Z
DTSTART:20250325T110000Z
SEQUENCE:0
TRANSP:OPAQUE
END:VEVENT
END:VCALENDAR