BEGIN:VCALENDAR
VERSION:2.0
PRODID:-//jEvents 2.0 for Joomla//EN
CALSCALE:GREGORIAN
METHOD:PUBLISH
BEGIN:VEVENT
UID:e768250f64ff8b8a2d967fa2362bf2fe
CATEGORIES:DEFAULT
SUMMARY:Formation à la photo organisée par André Antoine
LOCATION:Salle espace Gérard Philipe
DESCRIPTION;ENCODING=QUOTED-PRINTABLE:
X-EXTRAINFO:.
DTSTAMP:20260425T124308Z
DTSTART;VALUE=DATE:20250318
DTEND;VALUE=DATE:20250321
SEQUENCE:0
TRANSP:OPAQUE
END:VEVENT
END:VCALENDAR