BEGIN:VCALENDAR
VERSION:2.0
PRODID:-//jEvents 2.0 for Joomla//EN
CALSCALE:GREGORIAN
METHOD:PUBLISH
BEGIN:VEVENT
UID:f359220049487c71ef71afa1a2fe22e9
CATEGORIES:DEFAULT
SUMMARY:Journée découverte du Hangochet
LOCATION:Rendez-vous parking square La Fayette à 11h30
DESCRIPTION;ENCODING=QUOTED-PRINTABLE:
X-EXTRAINFO:.
DTSTAMP:20260423T125653Z
DTSTART:20250315T110000Z
SEQUENCE:0
TRANSP:OPAQUE
END:VEVENT
END:VCALENDAR