BEGIN:VCALENDAR
VERSION:2.0
PRODID:-//jEvents 2.0 for Joomla//EN
CALSCALE:GREGORIAN
METHOD:PUBLISH
BEGIN:VEVENT
UID:6d36ba26ad18be013a004b72db4ebfb3
CATEGORIES:DEFAULT
SUMMARY:Randonnée douce organisée par Valérie Cormier
LOCATION:Rendez-vous Square La Fayette
DESCRIPTION;ENCODING=QUOTED-PRINTABLE:
X-EXTRAINFO:.
DTSTAMP:20260423T125537Z
DTSTART:20250305T123000Z
SEQUENCE:0
TRANSP:OPAQUE
END:VEVENT
END:VCALENDAR