BEGIN:VCALENDAR
VERSION:2.0
PRODID:-//jEvents 2.0 for Joomla//EN
CALSCALE:GREGORIAN
METHOD:PUBLISH
BEGIN:VEVENT
UID:d9e77f34bf5b2d38e801ea6acfee758d
CATEGORIES:DEFAULT
SUMMARY:Repas carnaval organisé par : Francine Habert au Hangochet
LOCATION:Rendez-vous parking square La Fayette à 11h30
DESCRIPTION;ENCODING=QUOTED-PRINTABLE:
X-EXTRAINFO:.
DTSTAMP:20260423T130008Z
DTSTART:20250304T110000Z
DTEND:20250304T160000Z
SEQUENCE:0
TRANSP:OPAQUE
END:VEVENT
END:VCALENDAR