BEGIN:VCALENDAR
VERSION:2.0
PRODID:-//jEvents 2.0 for Joomla//EN
CALSCALE:GREGORIAN
METHOD:PUBLISH
BEGIN:VEVENT
UID:fa7082efd131c5ed34eaa97c0e4cb48b
CATEGORIES:DEFAULT
SUMMARY:Sortie raquettes organisée par : Monique Oberlé et Valérie Cormier
LOCATION:Rendez-vous parking Quai La Fayette
DESCRIPTION;ENCODING=QUOTED-PRINTABLE:
X-EXTRAINFO:.
DTSTAMP:20260423T144652Z
DTSTART:20250302T073000Z
DTEND:20250302T160000Z
SEQUENCE:0
TRANSP:OPAQUE
END:VEVENT
END:VCALENDAR