BEGIN:VCALENDAR
VERSION:2.0
PRODID:-//jEvents 2.0 for Joomla//EN
CALSCALE:GREGORIAN
METHOD:PUBLISH
BEGIN:VEVENT
UID:0968cf2501002ac0916d9db5e47fb4cd
CATEGORIES:DEFAULT
SUMMARY:Après-midi loisirs en salle Gérard Philipe (Francine Habert et Micheline Combeau)
LOCATION:salle Gérard Philipe
DESCRIPTION;ENCODING=QUOTED-PRINTABLE:
X-EXTRAINFO:.
DTSTAMP:20260423T132427Z
DTSTART:20250214T130000Z
SEQUENCE:0
TRANSP:OPAQUE
END:VEVENT
END:VCALENDAR