BEGIN:VCALENDAR
VERSION:2.0
PRODID:-//jEvents 2.0 for Joomla//EN
CALSCALE:GREGORIAN
METHOD:PUBLISH
BEGIN:VEVENT
UID:abc4cea36f9a607cdd8b9d72e6d90786
CATEGORIES:DEFAULT
SUMMARY:Réunion de Conseil d'Administration
LOCATION:Salle Gérard Philipe
DESCRIPTION;ENCODING=QUOTED-PRINTABLE:
X-EXTRAINFO:.
DTSTAMP:20260423T151827Z
DTSTART:20250131T183000Z
SEQUENCE:0
TRANSP:OPAQUE
END:VEVENT
END:VCALENDAR