BEGIN:VCALENDAR
VERSION:2.0
PRODID:-//jEvents 2.0 for Joomla//EN
CALSCALE:GREGORIAN
METHOD:PUBLISH
BEGIN:VEVENT
UID:c505ead00614f5cf2c5abcedd7b17d54
CATEGORIES:DEFAULT
SUMMARY:Marche Nordique
LOCATION:Rendez-vous parking Quai La Fayette
DESCRIPTION;ENCODING=QUOTED-PRINTABLE:
X-EXTRAINFO:.
DTSTAMP:20260421T095049Z
DTSTART:20250130T124500Z
SEQUENCE:0
RRULE:FREQ=WEEKLY;UNTIL=20250627T000000Z;INTERVAL=1;BYDAY=TH
TRANSP:OPAQUE
END:VEVENT
END:VCALENDAR