BEGIN:VCALENDAR
VERSION:2.0
PRODID:-//jEvents 2.0 for Joomla//EN
CALSCALE:GREGORIAN
METHOD:PUBLISH
BEGIN:VEVENT
UID:357e3472372fd84008238c8ee1194aa5
CATEGORIES:DEFAULT
SUMMARY:Vernissage de l'Expo photo
LOCATION:Tour de la Liberté
DESCRIPTION;ENCODING=QUOTED-PRINTABLE:
X-EXTRAINFO:.
DTSTAMP:20260425T113601Z
DTSTART:20240817T153000Z
SEQUENCE:0
TRANSP:OPAQUE
END:VEVENT
END:VCALENDAR