BEGIN:VCALENDAR
VERSION:2.0
PRODID:-//jEvents 2.0 for Joomla//EN
CALSCALE:GREGORIAN
METHOD:PUBLISH
BEGIN:VEVENT
UID:1ebc150ae0aa8815216f4fda03c45672
CATEGORIES:DEFAULT
SUMMARY:Randonnée douce organisée par Claudine Caël
LOCATION:Rendez-vous square La Fayette
DESCRIPTION;ENCODING=QUOTED-PRINTABLE:
X-EXTRAINFO:.
DTSTAMP:20260423T171316Z
DTSTART:20240731T113000Z
SEQUENCE:0
TRANSP:OPAQUE
END:VEVENT
END:VCALENDAR