BEGIN:VCALENDAR
VERSION:2.0
PRODID:-//jEvents 2.0 for Joomla//EN
CALSCALE:GREGORIAN
METHOD:PUBLISH
BEGIN:VEVENT
UID:312a1d46a97067b5c761ea85e13be69c
CATEGORIES:DEFAULT
SUMMARY:Expo photo
LOCATION:Tour de la Liberté
DESCRIPTION;ENCODING=QUOTED-PRINTABLE:
X-EXTRAINFO:.
DTSTAMP:20260425T113604Z
DTSTART:20240818T113000Z
DTEND:20240831T160000Z
SEQUENCE:0
TRANSP:OPAQUE
END:VEVENT
END:VCALENDAR